BEGIN:VCALENDAR
VERSION:2.0
PRODID:-//Drupal iCal API//EN
X-WR-CALNAME:Events items teaser
X-WR-TIMEZONE:America/Toronto
BEGIN:VTIMEZONE
TZID:America/Toronto
X-LIC-LOCATION:America/Toronto
BEGIN:DAYLIGHT
TZNAME:EDT
TZOFFSETFROM:-0500
TZOFFSETTO:-0400
DTSTART:20190310T070000
END:DAYLIGHT
BEGIN:STANDARD
TZNAME:EST
TZOFFSETFROM:-0400
TZOFFSETTO:-0500
DTSTART:20181104T060000
END:STANDARD
END:VTIMEZONE
BEGIN:VEVENT
UID:69e6032a388db
DTSTART;TZID=America/Toronto:20190418T140000
SEQUENCE:0
TRANSP:TRANSPARENT
DTEND;TZID=America/Toronto:20190418T140000
URL:https://uwaterloo.ca/institute-for-quantum-computing/events/entanglemen
 t-suppression-and-emergent-symmetries-strong
LOCATION:QNC - Quantum Nano Centre 200 University Avenue West 0101 Waterloo
  ON N2L 3G1 Canada
SUMMARY:Entanglement Suppression and Emergent Symmetries of Strong\nInterac
 tions
CLASS:PUBLIC
DESCRIPTION:MARTIN SAVAGE\, INSTITUTE FOR NUCLEAR THEORY \n\nRecently\
 , Silas Beane\, David Kaplan\, Natalie Klco and I considered the\nentangle
 ment power of the S-­‐matrix describing low-­‐energy\nhadronic inter
 actions\, and the implications of particular limits. We\nfound that vanish
 ing entanglement power occurs at points of emergent\nglobal symmetries\, w
 hich are seen to be consistent with nature and\nalso recent lattice quantu
 m chromodynamics (QCD) calculations. I will\ndiscuss aspects of these res
 ults.
DTSTAMP:20260420T104250Z
END:VEVENT
END:VCALENDAR