BEGIN:VCALENDAR
VERSION:2.0
PRODID:-//Drupal iCal API//EN
X-WR-CALNAME:Events items teaser
X-WR-TIMEZONE:America/Toronto
BEGIN:VTIMEZONE
TZID:America/Toronto
X-LIC-LOCATION:America/Toronto
BEGIN:DAYLIGHT
TZNAME:EDT
TZOFFSETFROM:-0500
TZOFFSETTO:-0400
DTSTART:20190310T070000
END:DAYLIGHT
BEGIN:STANDARD
TZNAME:EST
TZOFFSETFROM:-0400
TZOFFSETTO:-0500
DTSTART:20181104T060000
END:STANDARD
END:VTIMEZONE
BEGIN:VEVENT
UID:69e97b846e097
DTSTART;TZID=America/Toronto:20190415T153000
SEQUENCE:0
TRANSP:TRANSPARENT
DTEND;TZID=America/Toronto:20190415T153000
URL:https://uwaterloo.ca/institute-for-quantum-computing/events/women-scien
 ce-meet-and-greet
LOCATION:QNC - Quantum Nano Centre 200 University Avenue West 1201 Waterloo
  ON N2L 3G1 Canada
SUMMARY:Women in Science Meet and Greet
CLASS:PUBLIC
DESCRIPTION:NICOLE YUNGER HALPERN\, HARVARD-SMITHSONIAN INSTITUTE FOR THEOR
 ETICAL\nATOMIC\, MOLECULAR\, AND OPTICAL PHYSICS\n\nJoin us in QNC 1201 fo
 r a Meet and Greet with Nicole Yunger Halpern\,\nPostdoctoral Fellow at th
 e Harvard-Smithsonian Institute for\nTheoretical Atomic\, Molecular\, and 
 Optical Physics (ITAMP). All are\nwelcome. Snacks and refreshments will be
  provided.
DTSTAMP:20260423T015308Z
END:VEVENT
END:VCALENDAR