BEGIN:VCALENDAR
VERSION:2.0
PRODID:-//Drupal iCal API//EN
X-WR-CALNAME:Events items teaser
X-WR-TIMEZONE:America/Toronto
BEGIN:VTIMEZONE
TZID:America/Toronto
X-LIC-LOCATION:America/Toronto
BEGIN:DAYLIGHT
TZNAME:EDT
TZOFFSETFROM:-0500
TZOFFSETTO:-0400
DTSTART:20190310T070000
END:DAYLIGHT
BEGIN:STANDARD
TZNAME:EST
TZOFFSETFROM:-0400
TZOFFSETTO:-0500
DTSTART:20181104T060000
END:STANDARD
END:VTIMEZONE
BEGIN:VEVENT
UID:69ebb56b17728
DTSTART;TZID=Africa/Abidjan:20190623T000000
SEQUENCE:0
TRANSP:TRANSPARENT
DTEND;TZID=Africa/Abidjan:20190625T000000
URL:https://uwaterloo.ca/institute-for-quantum-computing/events/spin-canada
 -2019-0
LOCATION:Fairmont Le Chateau Montebello\, Quebec 392 Notre Dame Montebello 
 QC J0V 1L0 Canada
SUMMARY:Spin Canada 2019
CLASS:PUBLIC
DESCRIPTION:Co-organized by the National Research Council of Canada \n\nTh
 e meeting brings together the Canadian community of scientists and\nengine
 ers who perform research and development on spin-based quantum\ntechnologi
 es. This will be the third annual workshop\, with the main\ngoal to foster
  spin qubit research and attract and train highly\nqualified personnel for
  the emerging quantum technologies sector in\nCanada.
DTSTAMP:20260424T182443Z
END:VEVENT
END:VCALENDAR