BEGIN:VCALENDAR
VERSION:2.0
PRODID:-//Drupal iCal API//EN
X-WR-CALNAME:Events items teaser
X-WR-TIMEZONE:America/Toronto
BEGIN:VTIMEZONE
TZID:America/Toronto
X-LIC-LOCATION:America/Toronto
BEGIN:DAYLIGHT
TZNAME:EDT
TZOFFSETFROM:-0500
TZOFFSETTO:-0400
DTSTART:20190310T070000
END:DAYLIGHT
BEGIN:STANDARD
TZNAME:EST
TZOFFSETFROM:-0400
TZOFFSETTO:-0500
DTSTART:20181104T060000
END:STANDARD
END:VTIMEZONE
BEGIN:VEVENT
UID:69e6cb270c87d
DTSTART;TZID=America/Toronto:20190417T110000
SEQUENCE:0
TRANSP:TRANSPARENT
DTEND;TZID=America/Toronto:20190417T110000
URL:https://uwaterloo.ca/institute-for-quantum-computing/events/garden-hose
 -model
LOCATION:QNC - Quantum Nano Centre 1201 Canada
SUMMARY:The Garden-Hose Model
CLASS:PUBLIC
DESCRIPTION:SUPARTHA PODDER\, UNIVERSITY OF OTTAWA\n\nIn 2011 Harry Buhrman
 \, Serge Fehr\, Christian Schaffner and Florian\nSpeelman proposed a new m
 easure of complexity for finite Boolean\nfunctions\, called \"The Garden-h
 ose complexity\". This measure can be\nviewed as a type of distributed spa
 ce complexity where two players\nwith private inputs compute a Boolean fun
 ction co-operatively. While\nits motivation mainly came from the applicati
 ons to position based\nquantum cryptography\, the playful definition of th
 e model is quite\nappealing in itself.
DTSTAMP:20260421T005607Z
END:VEVENT
END:VCALENDAR