BEGIN:VCALENDAR
VERSION:2.0
PRODID:-//Drupal iCal API//EN
X-WR-CALNAME:Events items teaser
X-WR-TIMEZONE:America/Toronto
BEGIN:VTIMEZONE
TZID:America/Toronto
X-LIC-LOCATION:America/Toronto
BEGIN:DAYLIGHT
TZNAME:EDT
TZOFFSETFROM:-0500
TZOFFSETTO:-0400
DTSTART:20190310T070000
END:DAYLIGHT
BEGIN:STANDARD
TZNAME:EST
TZOFFSETFROM:-0400
TZOFFSETTO:-0500
DTSTART:20181104T060000
END:STANDARD
END:VTIMEZONE
BEGIN:VEVENT
UID:69e67c006cd93
DTSTART;TZID=America/Toronto:20190423T140000
SEQUENCE:0
TRANSP:TRANSPARENT
DTEND;TZID=America/Toronto:20190423T140000
URL:https://uwaterloo.ca/institute-for-quantum-computing/events/neexp-mip
LOCATION:QNC - Quantum Nano Centre 200 University Avenue West 1501 Waterloo
  ON N2L 3G1 Canada
SUMMARY:NEEXP is in MIP*
CLASS:PUBLIC
DESCRIPTION:ANAND NATARAJAN\, CALTECH\n\nA long-standing puzzle in quantum 
 complexity theory is to understand\nthe power of the class MIP* of multipr
 over interactive proofs with\nshared entanglement. This question is closel
 y related to the study of\nentanglement through non-local games\, which da
 tes back to the\npioneering work of Bell.
DTSTAMP:20260420T191824Z
END:VEVENT
END:VCALENDAR