BEGIN:VCALENDAR
VERSION:2.0
PRODID:-//Drupal iCal API//EN
X-WR-CALNAME:Events items teaser
X-WR-TIMEZONE:America/Toronto
BEGIN:VTIMEZONE
TZID:America/Toronto
X-LIC-LOCATION:America/Toronto
BEGIN:DAYLIGHT
TZNAME:EDT
TZOFFSETFROM:-0500
TZOFFSETTO:-0400
DTSTART:20190310T070000
END:DAYLIGHT
BEGIN:STANDARD
TZNAME:EST
TZOFFSETFROM:-0400
TZOFFSETTO:-0500
DTSTART:20181104T060000
END:STANDARD
END:VTIMEZONE
BEGIN:VEVENT
UID:69e6239bea3c5
DTSTART;TZID=America/Toronto:20190424T130000
SEQUENCE:0
TRANSP:TRANSPARENT
DTEND;TZID=America/Toronto:20190424T130000
URL:https://uwaterloo.ca/institute-for-quantum-computing/events/phd-compreh
 ensive-examination
LOCATION:M3 - Mathematics 3 200 University Avenue West 4206 Waterloo ON N2L
  3G1 Canada
SUMMARY:PhD Comprehensive Examination
CLASS:PUBLIC
DESCRIPTION:OPTIMIZATION ALGORITHMS FOR QUANTUM DEEP LEARNING\n\nPhD Candid
 ate: Guillaume Verdon-Akzam
DTSTAMP:20260420T130115Z
END:VEVENT
END:VCALENDAR