BEGIN:VCALENDAR
VERSION:2.0
PRODID:-//Drupal iCal API//EN
X-WR-CALNAME:Events items teaser
X-WR-TIMEZONE:America/Toronto
BEGIN:VTIMEZONE
TZID:America/Toronto
X-LIC-LOCATION:America/Toronto
BEGIN:DAYLIGHT
TZNAME:EDT
TZOFFSETFROM:-0500
TZOFFSETTO:-0400
DTSTART:20190310T070000
END:DAYLIGHT
BEGIN:STANDARD
TZNAME:EST
TZOFFSETFROM:-0400
TZOFFSETTO:-0500
DTSTART:20181104T060000
END:STANDARD
END:VTIMEZONE
BEGIN:VEVENT
UID:69e696435ce0b
DTSTART;TZID=America/Toronto:20190506T143000
SEQUENCE:0
TRANSP:TRANSPARENT
DTEND;TZID=America/Toronto:20190506T143000
URL:https://uwaterloo.ca/institute-for-quantum-computing/events/iqc-colloqu
 ium
LOCATION:QNC - Quantum Nano Centre 200 University Avenue West 0101 Waterloo
  ON N2L 3G1 Canada
SUMMARY:IQC Colloquium
CLASS:PUBLIC
DESCRIPTION:DUALITY QUANTUM COMPUTING: COMPUTING WITH LINEAR COMBINATIONS O
 F\nUNITARIES\n\nGUI-LU LONG\, APS AND IOP FELLOW\n\nUsually\, a quantum al
 gorithm uses products of unitaries to complete a\ntask. Lack of technique 
 and intuition in algorithm design has hindered\nthe development of quantum
  algorithm.
DTSTAMP:20260420T211027Z
END:VEVENT
END:VCALENDAR