BEGIN:VCALENDAR
VERSION:2.0
PRODID:-//Drupal iCal API//EN
X-WR-CALNAME:Events items teaser
X-WR-TIMEZONE:America/Toronto
BEGIN:VTIMEZONE
TZID:America/Toronto
X-LIC-LOCATION:America/Toronto
BEGIN:DAYLIGHT
TZNAME:EDT
TZOFFSETFROM:-0500
TZOFFSETTO:-0400
DTSTART:20190310T070000
END:DAYLIGHT
BEGIN:STANDARD
TZNAME:EST
TZOFFSETFROM:-0400
TZOFFSETTO:-0500
DTSTART:20181104T060000
END:STANDARD
END:VTIMEZONE
BEGIN:VEVENT
UID:69e688a543a45
DTSTART;TZID=America/Toronto:20190514T100000
SEQUENCE:0
TRANSP:TRANSPARENT
DTEND;TZID=America/Toronto:20190514T100000
URL:https://uwaterloo.ca/institute-for-quantum-computing/events/masters-def
 ence-2
LOCATION:QNC - Quantum Nano Centre 200 University Avenue West 0101 Waterloo
  ON N2L 3G1 Canada
SUMMARY:Master's Defence
CLASS:PUBLIC
DESCRIPTION:CHARACTERIZING SINGLE PHOTON EMISSION FROM QUANTUM DOTS IN NANO
 WIRES\n\nMaster's Candidate: Morgan Mastrovich
DTSTAMP:20260420T201221Z
END:VEVENT
END:VCALENDAR