BEGIN:VCALENDAR
VERSION:2.0
PRODID:-//Drupal iCal API//EN
X-WR-CALNAME:Events items teaser
X-WR-TIMEZONE:America/Toronto
BEGIN:VTIMEZONE
TZID:America/Toronto
X-LIC-LOCATION:America/Toronto
BEGIN:DAYLIGHT
TZNAME:EDT
TZOFFSETFROM:-0500
TZOFFSETTO:-0400
DTSTART:20190310T070000
END:DAYLIGHT
BEGIN:STANDARD
TZNAME:EST
TZOFFSETFROM:-0400
TZOFFSETTO:-0500
DTSTART:20181104T060000
END:STANDARD
END:VTIMEZONE
BEGIN:VEVENT
UID:69e5d6c09a7c2
DTSTART;TZID=America/Toronto:20190812T143000
SEQUENCE:0
TRANSP:TRANSPARENT
DTEND;TZID=America/Toronto:20190812T143000
URL:https://uwaterloo.ca/institute-for-quantum-computing/events/carbon-base
 d-nanoelectromechanics-physics-and-applications-0
LOCATION:QNC - Quantum Nano Centre 200 University Avenue West 1501 Waterloo
  ON N2L 3G1 Canada
SUMMARY:Carbon based nanoelectromechanics: Physics and Applications
CLASS:PUBLIC
DESCRIPTION:SANGWOOK LEE\, EWHA WOMANS UNIVERSITY\n\nIn this presentation\,
  physical properties and possible applications of\ncarbon based nano elect
 ro-mechanical devices (NEMS) will be\nintroduced. Our research started fro
 m carbon nanotube based nano\nelectro-mechanical relay structure and expan
 ded to graphene based\nxylophone and drum like devices. Micro contact tran
 sfer method is\napplied to realize the suspended nano structures with vari
 ous\nelectrodes under the nano materials.
DTSTAMP:20260420T073320Z
END:VEVENT
END:VCALENDAR