BEGIN:VCALENDAR
VERSION:2.0
PRODID:-//Drupal iCal API//EN
X-WR-CALNAME:Events items teaser
X-WR-TIMEZONE:America/Toronto
BEGIN:VTIMEZONE
TZID:America/Toronto
X-LIC-LOCATION:America/Toronto
BEGIN:DAYLIGHT
TZNAME:EDT
TZOFFSETFROM:-0500
TZOFFSETTO:-0400
DTSTART:20190310T070000
END:DAYLIGHT
BEGIN:STANDARD
TZNAME:EST
TZOFFSETFROM:-0400
TZOFFSETTO:-0500
DTSTART:20181104T060000
END:STANDARD
END:VTIMEZONE
BEGIN:VEVENT
UID:69e67bfe71131
DTSTART;TZID=America/Toronto:20190527T140000
SEQUENCE:0
TRANSP:TRANSPARENT
DTEND;TZID=America/Toronto:20190527T140000
URL:https://uwaterloo.ca/institute-for-quantum-computing/events/rare-earth-
 ensemble-quantum-memory-scalable-quantum
LOCATION:IQC - Institute for Quantum Computing 475 Wes Graham Way 0101 Wate
 rloo ON N2L 6R2 Canada
SUMMARY:A rare-earth ensemble quantum memory for scalable quantum computing
CLASS:PUBLIC
DESCRIPTION:BYOUNG HAM\, GWANGJU INSTITUTE OF SCIENCE AND TECHNOLOGY\n\nQua
 ntum coherence control in an inhomogeneously broadened lambda-type\nsolid 
 state ensemble has been studied for quantum memories over\ndecades. Unlike
  akali atoms\, the optically excited spin coherence in a\nrare-earth doped
  solid is sufferred from a serious spin dephasing\nproblem due to spin inh
 omogeneity. Thus\, solid state quantum memory\nprotocols such as AFC and g
 radient echo have been effctively\ndemonstrated only for optical transitio
 ns\, whose coherence time is far\nshorter than ms.
DTSTAMP:20260420T191822Z
END:VEVENT
END:VCALENDAR