BEGIN:VCALENDAR
VERSION:2.0
PRODID:-//Drupal iCal API//EN
X-WR-CALNAME:Events items teaser
X-WR-TIMEZONE:America/Toronto
BEGIN:VTIMEZONE
TZID:America/Toronto
X-LIC-LOCATION:America/Toronto
BEGIN:DAYLIGHT
TZNAME:EDT
TZOFFSETFROM:-0500
TZOFFSETTO:-0400
DTSTART:20190310T070000
END:DAYLIGHT
BEGIN:STANDARD
TZNAME:EST
TZOFFSETFROM:-0400
TZOFFSETTO:-0500
DTSTART:20181104T060000
END:STANDARD
END:VTIMEZONE
BEGIN:VEVENT
UID:69e5f3d132600
DTSTART;TZID=America/Toronto:20190610T143000
SEQUENCE:0
TRANSP:TRANSPARENT
DTEND;TZID=America/Toronto:20190610T143000
URL:https://uwaterloo.ca/institute-for-quantum-computing/events/iqc-colloqu
 ium-quantum-memories-and-schrodingers-cat
LOCATION:QNC - Quantum Nano Centre 200 University Avenue West 0101 Waterloo
  ON N2L 3G1 Canada
SUMMARY:IQC Colloquium - Quantum Memories and Schrödinger’s Cat
CLASS:PUBLIC
DESCRIPTION:IQC COLLOQUIUM\n\nSTEPHEN BARTLETT\, THE UNIVERSITY OF SYDNEY\n
 \nQuantum information is very fragile\, but clever quantum engineers\naspi
 re to use error correction to keep information intact.\nTopologically orde
 red phases—wherein the most exotic properties of\nquantum physics such a
 s entanglement are protected within a\nstrongly-interacting material—are
  currently being commandeered as\nquantum error-correcting codes for today
 ’s quantum architectures.\nI’ll introduce these as well as a new gener
 ation of theoretical\nmaterials that promise to self-correct themselves.
DTSTAMP:20260420T093721Z
END:VEVENT
END:VCALENDAR