BEGIN:VCALENDAR
VERSION:2.0
PRODID:-//Drupal iCal API//EN
X-WR-CALNAME:Events items teaser
X-WR-TIMEZONE:America/Toronto
BEGIN:VTIMEZONE
TZID:America/Toronto
X-LIC-LOCATION:America/Toronto
BEGIN:DAYLIGHT
TZNAME:EDT
TZOFFSETFROM:-0500
TZOFFSETTO:-0400
DTSTART:20190310T070000
END:DAYLIGHT
BEGIN:STANDARD
TZNAME:EST
TZOFFSETFROM:-0400
TZOFFSETTO:-0500
DTSTART:20181104T060000
END:STANDARD
END:VTIMEZONE
BEGIN:VEVENT
UID:69e688de5349c
DTSTART;TZID=America/Toronto:20190612T093000
SEQUENCE:0
TRANSP:TRANSPARENT
DTEND;TZID=America/Toronto:20190612T093000
URL:https://uwaterloo.ca/institute-for-quantum-computing/events/phd-defence
LOCATION:QNC - Quantum Nano Centre 200 University Avenue West QNC 2102 Wate
 rloo ON N2L 3G1 Canada
SUMMARY:PhD Defence
CLASS:PUBLIC
DESCRIPTION:CONTROL TECHNIQUES IN SPIN-BASED QUANTUM COMMUNICATION\n\nPhD C
 andidate: Hemant Katiyar
DTSTAMP:20260420T201318Z
END:VEVENT
END:VCALENDAR