BEGIN:VCALENDAR
VERSION:2.0
PRODID:-//Drupal iCal API//EN
X-WR-CALNAME:Events items teaser
X-WR-TIMEZONE:America/Toronto
BEGIN:VTIMEZONE
TZID:America/Toronto
X-LIC-LOCATION:America/Toronto
BEGIN:DAYLIGHT
TZNAME:EDT
TZOFFSETFROM:-0500
TZOFFSETTO:-0400
DTSTART:20190310T070000
END:DAYLIGHT
BEGIN:STANDARD
TZNAME:EST
TZOFFSETFROM:-0400
TZOFFSETTO:-0500
DTSTART:20181104T060000
END:STANDARD
END:VTIMEZONE
BEGIN:VEVENT
UID:69e5f3d0aa8dc
DTSTART;TZID=America/Toronto:20190612T140000
SEQUENCE:0
TRANSP:TRANSPARENT
DTEND;TZID=America/Toronto:20190612T140000
URL:https://uwaterloo.ca/institute-for-quantum-computing/events/iqc-seminar
 -simple-two-player-dimension-witness-based
LOCATION:QNC - Quantum Nano Centre 200 University Avenue West 1201 Waterloo
  ON N2L 3G1 Canada
SUMMARY:IQC Seminar - A simple two-player dimension witness based on\nembez
 zlement
CLASS:PUBLIC
DESCRIPTION:ANDREA COLADANGELO\, CALTECH\n\nIn a non-local game\, two or mo
 re non-communicating\, but entangled\,\nplayers cooperatively try to win a
  game consisting of a one-round\ninteraction with a classical referee. In 
 this talk\, I will describe a\ntwo-player non-local game with the property
  that an epsilon-close to\noptimal strategy requires the players to share
  an entangled state of\ndimension 2^{1/poly(epsilon)}.
DTSTAMP:20260420T093720Z
END:VEVENT
END:VCALENDAR