BEGIN:VCALENDAR
VERSION:2.0
PRODID:-//Drupal iCal API//EN
X-WR-CALNAME:Events items teaser
X-WR-TIMEZONE:America/Toronto
BEGIN:VTIMEZONE
TZID:America/Toronto
X-LIC-LOCATION:America/Toronto
BEGIN:DAYLIGHT
TZNAME:EDT
TZOFFSETFROM:-0500
TZOFFSETTO:-0400
DTSTART:20190310T070000
END:DAYLIGHT
BEGIN:STANDARD
TZNAME:EST
TZOFFSETFROM:-0400
TZOFFSETTO:-0500
DTSTART:20181104T060000
END:STANDARD
END:VTIMEZONE
BEGIN:VEVENT
UID:69e5f3d034411
DTSTART;TZID=America/Toronto:20190619T133000
SEQUENCE:0
TRANSP:TRANSPARENT
DTEND;TZID=America/Toronto:20190619T133000
URL:https://uwaterloo.ca/institute-for-quantum-computing/events/nonlocality
 -quantum-kicked-top-and-its-connection-symmetric
LOCATION:QNC - Quantum Nano Centre 200 University Avenue West 1201 Waterloo
  ON N2L 3G1 Canada
SUMMARY:Nonlocality in quantum kicked top and its connection to symmetric\n
 extension
CLASS:PUBLIC
DESCRIPTION:MEENU KUMARI\n\nNonlocality is a useful quantum resource in app
 lications such as\nquantum key distribution and quantum random number gene
 ration. We\nstudy nonlocality in a multi-qubit model—quantum kicked top 
 (QKT).\nThis system is of particular interest because it displays regular\
 nbehavior\, bifurcations and chaotic behavior in the classical limit\,\nan
 d is one of the few chaotic systems that has been experimentally\nrealized
 .
DTSTAMP:20260420T093720Z
END:VEVENT
END:VCALENDAR