BEGIN:VCALENDAR
VERSION:2.0
PRODID:-//Drupal iCal API//EN
X-WR-CALNAME:Events items teaser
X-WR-TIMEZONE:America/Toronto
BEGIN:VTIMEZONE
TZID:America/Toronto
X-LIC-LOCATION:America/Toronto
BEGIN:DAYLIGHT
TZNAME:EDT
TZOFFSETFROM:-0500
TZOFFSETTO:-0400
DTSTART:20190310T070000
END:DAYLIGHT
BEGIN:STANDARD
TZNAME:EST
TZOFFSETFROM:-0400
TZOFFSETTO:-0500
DTSTART:20181104T060000
END:STANDARD
END:VTIMEZONE
BEGIN:VEVENT
UID:69e688d1cb781
DTSTART;TZID=America/Toronto:20190703T130000
SEQUENCE:0
TRANSP:TRANSPARENT
DTEND;TZID=America/Toronto:20190703T130000
URL:https://uwaterloo.ca/institute-for-quantum-computing/events/phd-defence
 -1
LOCATION:RA2 - Research Advancement Centre 2 475 Wes Graham Way 1101 Waterl
 oo ON N2L 6R2 Canada
SUMMARY:PhD Defence
CLASS:PUBLIC
DESCRIPTION:ENGINEERING EFFECTIVE HAMILTONIANS FOR MAGNETIC RESONANCE\n\nHo
 lger Haas
DTSTAMP:20260420T201305Z
END:VEVENT
END:VCALENDAR