BEGIN:VCALENDAR
VERSION:2.0
PRODID:-//Drupal iCal API//EN
X-WR-CALNAME:Events items teaser
X-WR-TIMEZONE:America/Toronto
BEGIN:VTIMEZONE
TZID:America/Toronto
X-LIC-LOCATION:America/Toronto
BEGIN:DAYLIGHT
TZNAME:EDT
TZOFFSETFROM:-0500
TZOFFSETTO:-0400
DTSTART:20190310T070000
END:DAYLIGHT
BEGIN:STANDARD
TZNAME:EST
TZOFFSETFROM:-0400
TZOFFSETTO:-0500
DTSTART:20181104T060000
END:STANDARD
END:VTIMEZONE
BEGIN:VEVENT
UID:69e688d0c411f
DTSTART;TZID=America/Toronto:20190708T130000
SEQUENCE:0
TRANSP:TRANSPARENT
DTEND;TZID=America/Toronto:20190708T130000
URL:https://uwaterloo.ca/institute-for-quantum-computing/events/phd-defence
 -0
LOCATION:PHY - Physics 200 University Avenue West 352 Waterloo ON N2L 3G1 C
 anada
SUMMARY:PhD Defence
CLASS:PUBLIC
DESCRIPTION:QUANTUM-CLASSICAL CORRESPONDENCE AND ENTANGLEMENT IN PERIODICAL
 LY\nDRIVEN SPIN-SYSTEMS\n\nMeenu Kumari
DTSTAMP:20260420T201304Z
END:VEVENT
END:VCALENDAR