BEGIN:VCALENDAR
VERSION:2.0
PRODID:-//Drupal iCal API//EN
X-WR-CALNAME:Events items teaser
X-WR-TIMEZONE:America/Toronto
BEGIN:VTIMEZONE
TZID:America/Toronto
X-LIC-LOCATION:America/Toronto
BEGIN:DAYLIGHT
TZNAME:EDT
TZOFFSETFROM:-0500
TZOFFSETTO:-0400
DTSTART:20190310T070000
END:DAYLIGHT
BEGIN:STANDARD
TZNAME:EST
TZOFFSETFROM:-0400
TZOFFSETTO:-0500
DTSTART:20181104T060000
END:STANDARD
END:VTIMEZONE
BEGIN:VEVENT
UID:69e5d54c7649c
DTSTART;TZID=America/Toronto:20190725T090000
SEQUENCE:0
TRANSP:TRANSPARENT
DTEND;TZID=America/Toronto:20190725T090000
URL:https://uwaterloo.ca/institute-for-quantum-computing/events/phd-defence
 -2
LOCATION:QNC - Quantum Nano Centre 200 University Avenue West B204 Waterloo
  ON N2L 3G1 Canada
SUMMARY:PhD Defence
CLASS:PUBLIC
DESCRIPTION:QUANTUM ALGORITHMIC TECHNIQUES FOR FAULT-TOLERANT QUANTUM COMPU
 TERS\n\nMaria Kieferova
DTSTAMP:20260420T072708Z
END:VEVENT
END:VCALENDAR