BEGIN:VCALENDAR
VERSION:2.0
PRODID:-//Drupal iCal API//EN
X-WR-CALNAME:Events items teaser
X-WR-TIMEZONE:America/Toronto
BEGIN:VTIMEZONE
TZID:America/Toronto
X-LIC-LOCATION:America/Toronto
BEGIN:DAYLIGHT
TZNAME:EDT
TZOFFSETFROM:-0500
TZOFFSETTO:-0400
DTSTART:20190310T070000
END:DAYLIGHT
BEGIN:STANDARD
TZNAME:EST
TZOFFSETFROM:-0400
TZOFFSETTO:-0500
DTSTART:20181104T060000
END:STANDARD
END:VTIMEZONE
BEGIN:VEVENT
UID:69e688d84bce3
DTSTART;TZID=America/Toronto:20190624T143000
SEQUENCE:0
TRANSP:TRANSPARENT
DTEND;TZID=America/Toronto:20190624T143000
URL:https://uwaterloo.ca/institute-for-quantum-computing/events/renyi-entan
 glement-entropy-quantum-many-body-systems
LOCATION:QNC - Quantum Nano Centre 200 University Avenue West 0101 Waterloo
  ON N2L 3G1 Canada
SUMMARY:Renyi entanglement entropy in quantum many-body systems
CLASS:PUBLIC
DESCRIPTION:YICHEN HUANG - MICROSOFT RESEARCH\n\nWe present two concrete e
 xamples where the Renyi rather than just the\nvon Neumann entanglement ent
 ropy is necessary in order to obtain\ncertain insights into quantum many-b
 ody systems.
DTSTAMP:20260420T201312Z
END:VEVENT
END:VCALENDAR