BEGIN:VCALENDAR
VERSION:2.0
PRODID:-//Drupal iCal API//EN
X-WR-CALNAME:Events items teaser
X-WR-TIMEZONE:America/Toronto
BEGIN:VTIMEZONE
TZID:America/Toronto
X-LIC-LOCATION:America/Toronto
BEGIN:DAYLIGHT
TZNAME:EDT
TZOFFSETFROM:-0500
TZOFFSETTO:-0400
DTSTART:20190310T070000
END:DAYLIGHT
BEGIN:STANDARD
TZNAME:EST
TZOFFSETFROM:-0400
TZOFFSETTO:-0500
DTSTART:20181104T060000
END:STANDARD
END:VTIMEZONE
BEGIN:VEVENT
UID:69e6032ba4fc5
DTSTART;TZID=America/Toronto:20190719T114500
SEQUENCE:0
TRANSP:TRANSPARENT
DTEND;TZID=America/Toronto:20190719T114500
URL:https://uwaterloo.ca/institute-for-quantum-computing/events/padqoc-high
 -performance-solver-quantum-optimal-control
LOCATION:RAC - Research Advancement Centre 475 Wes Graham Way 2009 Waterloo
  ON N2L 6R2 Canada
SUMMARY:PADQOC\, high-performance solver for Quantum Optimal Control
CLASS:PUBLIC
DESCRIPTION:MICHAEL CHEN\n\nDesigning control pulses to generate desired un
 itary evolution\nsubjugated to experimental constraints (e.g.\, decoherenc
 e time\,\nbandwidth) is a common task for quantum platforms\, these type o
 f\nproblems are often addressed in the context of quantum optimal\ncontrol
 . Parallel Automatic Differentiation Quantum Optimal Control\n(PADQOC) is 
 an open-source\, Python based general quantum optimal\ncontrol solver bui
 lt on top of Tensorflow 2. It is designed to be\nfast\, extensible and use
 ful for controlling general quantum systems.
DTSTAMP:20260420T104251Z
END:VEVENT
END:VCALENDAR