BEGIN:VCALENDAR
VERSION:2.0
PRODID:-//Drupal iCal API//EN
X-WR-CALNAME:Events items teaser
X-WR-TIMEZONE:America/Toronto
BEGIN:VTIMEZONE
TZID:America/Toronto
X-LIC-LOCATION:America/Toronto
BEGIN:DAYLIGHT
TZNAME:EDT
TZOFFSETFROM:-0500
TZOFFSETTO:-0400
DTSTART:20190310T070000
END:DAYLIGHT
BEGIN:STANDARD
TZNAME:EST
TZOFFSETFROM:-0400
TZOFFSETTO:-0500
DTSTART:20181104T060000
END:STANDARD
END:VTIMEZONE
BEGIN:VEVENT
UID:69e5ea39ecf3a
DTSTART;TZID=America/Toronto:20191002T143000
SEQUENCE:0
TRANSP:TRANSPARENT
DTEND;TZID=America/Toronto:20191002T143000
URL:https://uwaterloo.ca/institute-for-quantum-computing/events/chemistry-s
 eminar-series-maureen-lagos
LOCATION:C2 - Chemistry 2 200 University Avenue West 361 (Reading Room) Wat
 erloo ON N2L 3G1 Canada
SUMMARY:Chemistry Seminar Series: Maureen Lagos
CLASS:PUBLIC
DESCRIPTION:A MONOCHROMATIC ATOM-WIDE ELECTRON PROBE FOR NANOSCALE MATERIAL
 S\nEXCITATIONS\n\nMAUREEN JOEL LAGOS\nDepartment of Materials Science and 
 Engineering\nCanadian Centre for Electron Microscopy\nMcMaster University\
 , Ontario\, Canada\n\nWEDNESDAY\, OCTOBER 2\, 2019\n2:30 p.m.\nC2-361 (Rea
 ding Room)\n\nABSTRACT: 
DTSTAMP:20260420T085625Z
END:VEVENT
END:VCALENDAR