BEGIN:VCALENDAR
VERSION:2.0
PRODID:-//Drupal iCal API//EN
X-WR-CALNAME:Events items teaser
X-WR-TIMEZONE:America/Toronto
BEGIN:VTIMEZONE
TZID:America/Toronto
X-LIC-LOCATION:America/Toronto
BEGIN:DAYLIGHT
TZNAME:EDT
TZOFFSETFROM:-0500
TZOFFSETTO:-0400
DTSTART:20190310T070000
END:DAYLIGHT
BEGIN:STANDARD
TZNAME:EST
TZOFFSETFROM:-0400
TZOFFSETTO:-0500
DTSTART:20191103T060000
END:STANDARD
END:VTIMEZONE
BEGIN:VEVENT
UID:69e621b3d78ca
DTSTART;TZID=America/Toronto:20200203T143000
SEQUENCE:0
TRANSP:TRANSPARENT
DTEND;TZID=America/Toronto:20200203T143000
URL:https://uwaterloo.ca/institute-for-quantum-computing/events/variational
 -quantum-algorithms-obstacles-and-opportunities
LOCATION:QNC - Quantum Nano Centre 200 University Avenue West 0101 Waterloo
  ON N2L 3G1 Canada
SUMMARY:Variational quantum algorithms: obstacles and opportunities
CLASS:PUBLIC
DESCRIPTION:COLLOQUIUM FEATURING SERGEY BRAVYI IBM RESEARCH\n\nVariational 
 quantum algorithms such as VQE or QAOA aim to simulate\nlow-energy propert
 ies of quantum many-body systems or find approximate\nsolutions of combina
 torial optimization problems. Such algorithms\nemploy variational states g
 enerated by low-depth quantum circuits to\nminimize the expected value of 
 a quantum or classical Hamiltonian.
DTSTAMP:20260420T125307Z
END:VEVENT
END:VCALENDAR