BEGIN:VCALENDAR
VERSION:2.0
PRODID:-//Drupal iCal API//EN
X-WR-CALNAME:Events items teaser
X-WR-TIMEZONE:America/Toronto
BEGIN:VTIMEZONE
TZID:America/Toronto
X-LIC-LOCATION:America/Toronto
BEGIN:DAYLIGHT
TZNAME:EDT
TZOFFSETFROM:-0500
TZOFFSETTO:-0400
DTSTART:20190310T070000
END:DAYLIGHT
BEGIN:STANDARD
TZNAME:EST
TZOFFSETFROM:-0400
TZOFFSETTO:-0500
DTSTART:20191103T060000
END:STANDARD
END:VTIMEZONE
BEGIN:VEVENT
UID:69e67c1286949
DTSTART;TZID=America/Toronto:20200303T133000
SEQUENCE:0
TRANSP:TRANSPARENT
DTEND;TZID=America/Toronto:20200303T133000
URL:https://uwaterloo.ca/institute-for-quantum-computing/events/quantum-ste
 ampunk-quantum-information-meets-thermodynamics-0
LOCATION:QNC - Quantum Nano Centre 200 University Avenue West 0101 Waterloo
  ON N2L 3G1 Canada
SUMMARY:Quantum steampunk: Quantum information meets thermodynamics
CLASS:PUBLIC
DESCRIPTION:NICOLE YUNGER HALPERN\, HARVARD UNIVERSITY\n\nThermodynamics ha
 s shed light on engines\, efficiency\, and time’s\narrow since the Indus
 trial Revolution. But the steam engines that\npowered the Industrial Revol
 ution were large and classical. Much of\ntoday’s technology and experime
 nts are small-scale\, quantum\, far\nfrom equilibrium\, and processing inf
 ormation.
DTSTAMP:20260420T191842Z
END:VEVENT
END:VCALENDAR