BEGIN:VCALENDAR
VERSION:2.0
PRODID:-//Drupal iCal API//EN
X-WR-CALNAME:Events items teaser
X-WR-TIMEZONE:America/Toronto
BEGIN:VTIMEZONE
TZID:America/Toronto
X-LIC-LOCATION:America/Toronto
BEGIN:DAYLIGHT
TZNAME:EDT
TZOFFSETFROM:-0500
TZOFFSETTO:-0400
DTSTART:20190310T070000
END:DAYLIGHT
BEGIN:STANDARD
TZNAME:EST
TZOFFSETFROM:-0400
TZOFFSETTO:-0500
DTSTART:20191103T060000
END:STANDARD
END:VTIMEZONE
BEGIN:VEVENT
UID:69e5ce724cdd7
DTSTART;TZID=America/Toronto:20200226T103000
SEQUENCE:0
TRANSP:TRANSPARENT
DTEND;TZID=America/Toronto:20200226T103000
URL:https://uwaterloo.ca/institute-for-quantum-computing/events/quantum-non
 linear-optics-rydberg-polaritons
LOCATION:QNC - Quantum Nano Centre 200 University Avenue West 0101 Waterloo
  ON N2L 3G1 Canada
SUMMARY:Quantum nonlinear optics with Rydberg polaritons
CLASS:PUBLIC
DESCRIPTION:SPECIAL SEMINAR FEATURING WENCHAO XU\, MIT\n\nPhotons interact 
 weakly in vacuum. Finding an optical medium that\nmanifests optical nonlin
 earity at individual photon level is\nfascinating\, as it opens the possib
 ility to build up all-optical\nquantum devices\, and form novel quantum ma
 ny-body states of lights.
DTSTAMP:20260420T065754Z
END:VEVENT
END:VCALENDAR