BEGIN:VCALENDAR
VERSION:2.0
PRODID:-//Drupal iCal API//EN
X-WR-CALNAME:Events items teaser
X-WR-TIMEZONE:America/Toronto
BEGIN:VTIMEZONE
TZID:America/Toronto
X-LIC-LOCATION:America/Toronto
BEGIN:DAYLIGHT
TZNAME:EDT
TZOFFSETFROM:-0500
TZOFFSETTO:-0400
DTSTART:20190310T070000
END:DAYLIGHT
BEGIN:STANDARD
TZNAME:EST
TZOFFSETFROM:-0400
TZOFFSETTO:-0500
DTSTART:20191103T060000
END:STANDARD
END:VTIMEZONE
BEGIN:VEVENT
UID:69e5d6c025623
DTSTART;TZID=America/Detroit:20200305T093000
SEQUENCE:0
TRANSP:TRANSPARENT
DTEND;TZID=America/Detroit:20200305T093000
URL:https://uwaterloo.ca/institute-for-quantum-computing/events/march-meeti
 ng-north-mini-symposium-0
LOCATION:Mike and Ophelia Lazaridis Quantum-Nano Center Lazaridis QNC 0101 
 Canada
SUMMARY:March Meeting North Mini-Symposium
CLASS:PUBLIC
DESCRIPTION:Due to the APS March Meeting being canceled\, IQC has scheduled
  a\nmini-symposium for University of Waterloo students to give their\nacce
 pted talks.\n\nTalks are open for all to attend.
DTSTAMP:20260420T073320Z
END:VEVENT
END:VCALENDAR