BEGIN:VCALENDAR
VERSION:2.0
PRODID:-//Drupal iCal API//EN
X-WR-CALNAME:Events items teaser
X-WR-TIMEZONE:America/Toronto
BEGIN:VTIMEZONE
TZID:America/Toronto
X-LIC-LOCATION:America/Toronto
BEGIN:DAYLIGHT
TZNAME:EDT
TZOFFSETFROM:-0500
TZOFFSETTO:-0400
DTSTART:20200308T070000
END:DAYLIGHT
BEGIN:STANDARD
TZNAME:EST
TZOFFSETFROM:-0400
TZOFFSETTO:-0500
DTSTART:20191103T060000
END:STANDARD
END:VTIMEZONE
BEGIN:VEVENT
UID:69e5ea35eec9b
DTSTART;TZID=America/Toronto:20200930T090000
SEQUENCE:0
TRANSP:TRANSPARENT
DTEND;TZID=America/Toronto:20200930T090000
URL:https://uwaterloo.ca/institute-for-quantum-computing/events/non-equilib
 rium-dynamics-spin-1-condensate-0
SUMMARY:Non-equilibrium dynamics in spin-1 condensate
CLASS:PUBLIC
DESCRIPTION:LIYUAN QIU\, INSTITUTE FOR INTERDISCIPLINARY INFORMATION SCIENC
 ES\,\nTSINGHUA UNIVERSITY\n\nIn this talk\, I will introduce three non-equ
 ilibrium dynamics\nexperiments in the anti-ferromagnetic spin-1 sodium con
 densate\,\nincluding one experiment about the Kibble-Zurek mechanism in th
 e\nfirst-order quantum phase transition and two experiments about\nDynamic
 al Quantum Phase Transitions.\n\nIn the Kibble-Zurek mechanism\, we find o
 ut that not only the ground\nstate matters in quantum phase transition but
  also the high excited\nstates matter.
DTSTAMP:20260420T085621Z
END:VEVENT
END:VCALENDAR