BEGIN:VCALENDAR
VERSION:2.0
PRODID:-//Drupal iCal API//EN
X-WR-CALNAME:Events items teaser
X-WR-TIMEZONE:America/Toronto
BEGIN:VTIMEZONE
TZID:America/Toronto
X-LIC-LOCATION:America/Toronto
BEGIN:DAYLIGHT
TZNAME:EDT
TZOFFSETFROM:-0500
TZOFFSETTO:-0400
DTSTART:20200308T070000
END:DAYLIGHT
BEGIN:STANDARD
TZNAME:EST
TZOFFSETFROM:-0400
TZOFFSETTO:-0500
DTSTART:20201101T060000
END:STANDARD
END:VTIMEZONE
BEGIN:VEVENT
UID:69e98e29228f6
DTSTART;TZID=America/Detroit:20201124T190000
SEQUENCE:0
TRANSP:TRANSPARENT
DTEND;TZID=America/Detroit:20201124T190000
URL:https://uwaterloo.ca/institute-for-quantum-computing/events/fireside-ch
 at-0
SUMMARY:Fireside Chat
CLASS:PUBLIC
DESCRIPTION:Join us for casual conversations with researchers at the Instit
 ute for\nQuantum Computing (IQC).\n\nPROFESSOR DAVID GOSSET - TUESDAY\, NO
 VEMBER 24\, 7:00 P.M.\n\nFor our fourth Fireside Chat\, we welcome Profes
 sor David Gosset of\nthe Institute for Quantum Computing and the Universit
 y of Waterloo's\nDepartment of Combinatorics &amp; Optimization.\n\nDavid Goss
 et joined the Institute for Quantum Computing (IQC) as an\nAssociate Profe
 ssor in the Department of Combinatorics and\nOptimization at the Universit
 y of Waterloo on August 1\, 2018.
DTSTAMP:20260423T031241Z
END:VEVENT
END:VCALENDAR