BEGIN:VCALENDAR
VERSION:2.0
PRODID:-//Drupal iCal API//EN
X-WR-CALNAME:Events items teaser
X-WR-TIMEZONE:America/Toronto
BEGIN:VTIMEZONE
TZID:America/Toronto
X-LIC-LOCATION:America/Toronto
BEGIN:DAYLIGHT
TZNAME:EDT
TZOFFSETFROM:-0500
TZOFFSETTO:-0400
DTSTART:20200308T070000
END:DAYLIGHT
BEGIN:STANDARD
TZNAME:EST
TZOFFSETFROM:-0400
TZOFFSETTO:-0500
DTSTART:20201101T060000
END:STANDARD
END:VTIMEZONE
BEGIN:VEVENT
UID:69e9e664219cc
DTSTART;TZID=America/Detroit:20210223T190000
SEQUENCE:0
TRANSP:TRANSPARENT
DTEND;TZID=America/Detroit:20210223T190000
URL:https://uwaterloo.ca/institute-for-quantum-computing/events/fireside-ch
 at-thomas-mcconkey
SUMMARY:Fireside Chat with Thomas McConkey
CLASS:PUBLIC
DESCRIPTION:Join us for casual conversations with quantum researchers.\n\nW
 hat makes a superconducting qubit tick? How does experience in a\nresearch
  lab prepare you for working on major projects after\ngraduation? \nWe’
 ll talk about these topics and more with IQC alumnus Thomas\nMcConkey\, no
 w a Microwave Design Engineer at IBM Q\, at the next\nvirtual fireside cha
 t.
DTSTAMP:20260423T092908Z
END:VEVENT
END:VCALENDAR