BEGIN:VCALENDAR
VERSION:2.0
PRODID:-//Drupal iCal API//EN
X-WR-CALNAME:Events items teaser
X-WR-TIMEZONE:America/Toronto
BEGIN:VTIMEZONE
TZID:America/Toronto
X-LIC-LOCATION:America/Toronto
BEGIN:DAYLIGHT
TZNAME:EDT
TZOFFSETFROM:-0500
TZOFFSETTO:-0400
DTSTART:20200308T070000
END:DAYLIGHT
BEGIN:STANDARD
TZNAME:EST
TZOFFSETFROM:-0400
TZOFFSETTO:-0500
DTSTART:20201101T060000
END:STANDARD
END:VTIMEZONE
BEGIN:VEVENT
UID:69e9048db3889
DTSTART;TZID=America/Detroit:20210309T190000
SEQUENCE:0
TRANSP:TRANSPARENT
DTEND;TZID=America/Detroit:20210309T190000
URL:https://uwaterloo.ca/institute-for-quantum-computing/events/fireside-ch
 at-twesh-upadhyaya
SUMMARY:Fireside Chat with Twesh Upadhyaya
CLASS:PUBLIC
DESCRIPTION:Join us\n[https://uwaterloo.ca/institute-for-quantum-computing/
 events/fireside-chat-twesh-upadhyaya] for\ncasual conversations with quan
 tum researchers.\n\nTwesh Upadhyaya\, IQC graduate student\, joins us for 
 a virtual Fireside\nChat to talk about finding a passion for quantum infor
 mation science\nin high school and to share his journey to studying the th
 eory of\nquantum security.
DTSTAMP:20260422T172533Z
END:VEVENT
END:VCALENDAR