BEGIN:VCALENDAR
VERSION:2.0
PRODID:-//Drupal iCal API//EN
X-WR-CALNAME:Events items teaser
X-WR-TIMEZONE:America/Toronto
BEGIN:VTIMEZONE
TZID:America/Toronto
X-LIC-LOCATION:America/Toronto
BEGIN:DAYLIGHT
TZNAME:EDT
TZOFFSETFROM:-0500
TZOFFSETTO:-0400
DTSTART:20210314T070000
END:DAYLIGHT
BEGIN:STANDARD
TZNAME:EST
TZOFFSETFROM:-0400
TZOFFSETTO:-0500
DTSTART:20201101T060000
END:STANDARD
END:VTIMEZONE
BEGIN:VEVENT
UID:69e9d22e90234
DTSTART;TZID=America/Detroit:20210420T190000
SEQUENCE:0
TRANSP:TRANSPARENT
DTEND;TZID=America/Detroit:20210420T190000
URL:https://uwaterloo.ca/institute-for-quantum-computing/events/fireside-ch
 at-alan-jamison
SUMMARY:Fireside Chat with Alan Jamison
CLASS:PUBLIC
DESCRIPTION:Join us\n[https://uwaterloo.ca/institute-for-quantum-computing/
 events/fireside-chat-alan-jamison] for\ncasual conversations with quantum
  researchers.\n\nAlan Jamison\, Assistant Professor at IQC and the Departm
 ent of Physics\nand Astronomy at the University of Waterloo\, joins us for
  our next\nvirtual Fireside Chat. We’ll talk about working under a Nobel
 \nlaureate\, teaching online before it was cool\, and how to chill a\nmole
 cule to nearly absolute zero.\n\nADD EVENT TO CALENDAR
DTSTAMP:20260423T080254Z
END:VEVENT
END:VCALENDAR