BEGIN:VCALENDAR
VERSION:2.0
PRODID:-//Drupal iCal API//EN
X-WR-CALNAME:Events items teaser
X-WR-TIMEZONE:America/Toronto
BEGIN:VTIMEZONE
TZID:America/Toronto
X-LIC-LOCATION:America/Toronto
BEGIN:DAYLIGHT
TZNAME:EDT
TZOFFSETFROM:-0500
TZOFFSETTO:-0400
DTSTART:20210314T070000
END:DAYLIGHT
BEGIN:STANDARD
TZNAME:EST
TZOFFSETFROM:-0400
TZOFFSETTO:-0500
DTSTART:20201101T060000
END:STANDARD
END:VTIMEZONE
BEGIN:VEVENT
UID:69e9048e306f1
DTSTART;TZID=America/Toronto:20210323T190000
SEQUENCE:0
TRANSP:TRANSPARENT
DTEND;TZID=America/Toronto:20210323T190000
URL:https://uwaterloo.ca/institute-for-quantum-computing/events/careers-qua
 ntum-and-stem
LOCATION:Live on YouTube Canada
SUMMARY:Careers in Quantum and STEM
CLASS:PUBLIC
DESCRIPTION:Where can an undergraduate degree in mathematics\, science or\n
 engineering take you? Hear from panelists about their own career\njourneys
  launched from STEM degrees.\n\nWhether you’re deciding what to study or
  if you are already in\nuniversity\, bring your questions for the Women in
  STEM panelists and\nlearn more about different career pathways. Join us l
 ive on YouTube\n[https://www.youtube.com/watch?v=k6gUyMZqXXg] - set your 
 reminder!
DTSTAMP:20260422T172534Z
END:VEVENT
END:VCALENDAR