BEGIN:VCALENDAR
VERSION:2.0
PRODID:-//Drupal iCal API//EN
X-WR-CALNAME:Events items teaser
X-WR-TIMEZONE:America/Toronto
BEGIN:VTIMEZONE
TZID:America/Toronto
X-LIC-LOCATION:America/Toronto
BEGIN:DAYLIGHT
TZNAME:EDT
TZOFFSETFROM:-0500
TZOFFSETTO:-0400
DTSTART:20200308T070000
END:DAYLIGHT
BEGIN:STANDARD
TZNAME:EST
TZOFFSETFROM:-0400
TZOFFSETTO:-0500
DTSTART:20201101T060000
END:STANDARD
END:VTIMEZONE
BEGIN:VEVENT
UID:69ec2e79bb6c6
DTSTART;TZID=America/Toronto:20210216T110000
SEQUENCE:0
TRANSP:TRANSPARENT
DTEND;TZID=America/Toronto:20210216T120000
URL:https://uwaterloo.ca/institute-for-quantum-computing/events/iqc-quics-m
 ath-and-computer-science-seminar
SUMMARY:IQC-QuICS Math and Computer Science Seminar
CLASS:PUBLIC
DESCRIPTION:THE QUANTUM SIGN PROBLEM: PERSPECTIVES FROM COMPUTATIONAL PHYSI
 CS AND\nQUANTUM COMPUTER SCIENCE \n_DOMINIK HANGLEITER\, __FREI__E__UNIV
 ERSITÄT BERLIN_
DTSTAMP:20260425T030113Z
END:VEVENT
END:VCALENDAR