BEGIN:VCALENDAR
VERSION:2.0
PRODID:-//Drupal iCal API//EN
X-WR-CALNAME:Events items teaser
X-WR-TIMEZONE:America/Toronto
BEGIN:VTIMEZONE
TZID:America/Toronto
X-LIC-LOCATION:America/Toronto
BEGIN:DAYLIGHT
TZNAME:EDT
TZOFFSETFROM:-0500
TZOFFSETTO:-0400
DTSTART:20210314T070000
END:DAYLIGHT
BEGIN:STANDARD
TZNAME:EST
TZOFFSETFROM:-0400
TZOFFSETTO:-0500
DTSTART:20201101T060000
END:STANDARD
END:VTIMEZONE
BEGIN:VEVENT
UID:69e621b05e539
DTSTART;TZID=America/Toronto:20210628T230000
SEQUENCE:0
TRANSP:TRANSPARENT
DTEND;TZID=America/Toronto:20210628T230000
URL:https://uwaterloo.ca/institute-for-quantum-computing/events/non-equilib
 rium-dynamics-lattice-confined-antiferromagnetic
LOCATION:Zoom Canada
SUMMARY:Non-equilibrium dynamics in lattice-confined antiferromagnetic spin
 or\ncondensates
CLASS:PUBLIC
DESCRIPTION:DR. ZIHE CHEN - OKLAHOMA STATE UNIVERSITY\n\nA spinor Bose-Eins
 tein condensate (BEC) is highly controllable\nespecially when combining wi
 th optical lattices. Lattice-confined\nspinor BEC is an ideal candidate fo
 r studying many non-equilibrium\nquantum dynamics since it can be easily p
 repared far from equilibrium.\nI will present the results of our experimen
 tal studies on\nnon-equilibrium quantum spin dynamics in our spinor BEC (2
 3Na)\nconfined by 3D cubic optical lattices.
DTSTAMP:20260420T125304Z
END:VEVENT
END:VCALENDAR