BEGIN:VCALENDAR
VERSION:2.0
PRODID:-//Drupal iCal API//EN
X-WR-CALNAME:Events items teaser
X-WR-TIMEZONE:America/Toronto
BEGIN:VTIMEZONE
TZID:America/Toronto
X-LIC-LOCATION:America/Toronto
BEGIN:DAYLIGHT
TZNAME:EDT
TZOFFSETFROM:-0500
TZOFFSETTO:-0400
DTSTART:20210314T070000
END:DAYLIGHT
BEGIN:STANDARD
TZNAME:EST
TZOFFSETFROM:-0400
TZOFFSETTO:-0500
DTSTART:20211107T060000
END:STANDARD
END:VTIMEZONE
BEGIN:VEVENT
UID:69eb188683988
DTSTART;TZID=America/New_York:20211125T160000
SEQUENCE:0
TRANSP:TRANSPARENT
DTEND;TZID=America/New_York:20211125T170000
URL:https://uwaterloo.ca/institute-for-quantum-computing/events/how-i-got-q
 uantum-graduate-student-perspective
SUMMARY:How I Got Into Quantum: A Graduate Student Perspective
CLASS:PUBLIC
DESCRIPTION:Meet graduate student researchers from science\, engineering\, 
 and\nmathematics and hear how they discovered quantum information science\
 ,\nfound their way into research\, and how the skills they gained in their
 \nundergraduate studies are helping them develop the next generation of\nq
 uantum technology.\n\nPANELISTS\n\n[Joanna Krynski]
DTSTAMP:20260424T071518Z
END:VEVENT
END:VCALENDAR