BEGIN:VCALENDAR
VERSION:2.0
PRODID:-//Drupal iCal API//EN
X-WR-CALNAME:Events items teaser
X-WR-TIMEZONE:America/Toronto
BEGIN:VTIMEZONE
TZID:America/Toronto
X-LIC-LOCATION:America/Toronto
BEGIN:DAYLIGHT
TZNAME:EDT
TZOFFSETFROM:-0500
TZOFFSETTO:-0400
DTSTART:20210314T070000
END:DAYLIGHT
BEGIN:STANDARD
TZNAME:EST
TZOFFSETFROM:-0400
TZOFFSETTO:-0500
DTSTART:20211107T060000
END:STANDARD
END:VTIMEZONE
BEGIN:VEVENT
UID:69e51a793a1f3
DTSTART;TZID=America/Toronto:20220210T160000
SEQUENCE:0
TRANSP:TRANSPARENT
DTEND;TZID=America/Toronto:20220210T160000
URL:https://uwaterloo.ca/institute-for-quantum-computing/events/quantum-opt
 ics-approach-black-hole-thermodynamics-conformal
SUMMARY:Quantum optics approach to black hole thermodynamics via conformal\
 nquantum mechanics
CLASS:PUBLIC
DESCRIPTION:ABHIJIT CHAKRABORTY\, UNIVERSITY OF HOUSTON\n\nConformal symmet
 ry of fields near the event horizon of the black hole\nplays a significant
  role in determining the temperature of the black\nhole radiation. In this
  talk\, we show how the near-horizon (NH)\nconformal symmetry provides a m
 icroscopic theory for the area-entropy\nrelation for any static or station
 ary black hole. To do that\, we map\nthe NH behavior of the field modes to
  the scale-invariant Hamiltonian\nof conformal quantum mechanics (CQM).
DTSTAMP:20260419T181001Z
END:VEVENT
END:VCALENDAR