BEGIN:VCALENDAR
VERSION:2.0
PRODID:-//Drupal iCal API//EN
X-WR-CALNAME:Events items teaser
X-WR-TIMEZONE:America/Toronto
BEGIN:VTIMEZONE
TZID:America/Toronto
X-LIC-LOCATION:America/Toronto
BEGIN:DAYLIGHT
TZNAME:EDT
TZOFFSETFROM:-0500
TZOFFSETTO:-0400
DTSTART:20220313T070000
END:DAYLIGHT
BEGIN:STANDARD
TZNAME:EST
TZOFFSETFROM:-0400
TZOFFSETTO:-0500
DTSTART:20211107T060000
END:STANDARD
END:VTIMEZONE
BEGIN:VEVENT
UID:69e57622ad79a
DTSTART;TZID=America/Toronto:20220609T150000
SEQUENCE:0
TRANSP:TRANSPARENT
DTEND;TZID=America/Toronto:20220609T150000
URL:https://uwaterloo.ca/institute-for-quantum-computing/events/chaos-order
 -simulating-many-body-phases-matter
LOCATION:QNC - Quantum Nano Centre 200 University Avenue West 1201 Waterloo
  ON N2L 3G1 Canada
SUMMARY:From chaos to order: Simulating many-body phases of matter with\nsu
 perconducting qubit processors
CLASS:PUBLIC
DESCRIPTION:XIAO MI\, GOOGLE\n\nA fertile ground of exploration for NISQ q
 uantum computers is the\nstudy of quantum phases and their associated tran
 sitions into chaotic\nregimes. Sharp growths of quantum correlation and en
 tanglement often\naccompany quantum phases near their critical points\, pr
 oviding\nopportunities for quantum computational advantage. Furthermore\, 
 the\ndiscovery of any robust quantum order in\, for example\, topological\
 nphases of matter may also enable new error-correction paradigms. I\nwill 
 present two recent experiments studying quantum phases of matter\nwith sup
 erconducting qubits.
DTSTAMP:20260420T004106Z
END:VEVENT
END:VCALENDAR