BEGIN:VCALENDAR
VERSION:2.0
PRODID:-//Drupal iCal API//EN
X-WR-CALNAME:Events items teaser
X-WR-TIMEZONE:America/Toronto
BEGIN:VTIMEZONE
TZID:America/Toronto
X-LIC-LOCATION:America/Toronto
BEGIN:DAYLIGHT
TZNAME:EDT
TZOFFSETFROM:-0500
TZOFFSETTO:-0400
DTSTART:20220313T070000
END:DAYLIGHT
BEGIN:STANDARD
TZNAME:EST
TZOFFSETFROM:-0400
TZOFFSETTO:-0500
DTSTART:20211107T060000
END:STANDARD
END:VTIMEZONE
BEGIN:VEVENT
UID:69e5a68c2bfe7
DTSTART;TZID=America/Toronto:20220621T143000
SEQUENCE:0
TRANSP:TRANSPARENT
DTEND;TZID=America/Toronto:20220621T143000
URL:https://uwaterloo.ca/institute-for-quantum-computing/events/conductance
 -spectroscopy-majorana-zero-modes-circumstantial
LOCATION:QNC - Quantum Nano Centre 200 University Avenue West 1201 Waterloo
 \, ON N2L 3G1 Canada
SUMMARY:Conductance spectroscopy of Majorana zero modes- circumstantial\nev
 idence or smoking gun?
CLASS:PUBLIC
DESCRIPTION:BHASKARAN MURALIDHARAN - DEPARTMENT OF ELECTRICAL ENGINEERING\,
  INDIAN\nINSTITUTE OF TECHNOLOGY BOMBAY\, INDIA \n\nSemiconductor nanowire
 -superconductor hybrid systems provide a\npromising platform for hosting M
 ajorana zero modes. However\, the\nconclusive experimental detection of th
 ese exotic modes is a much\ndebated and contentious issue. In this talk\, 
 we will describe\nconductance spectroscopy measurements and the current ex
 perimental\nstatus on their detection.
DTSTAMP:20260420T040740Z
END:VEVENT
END:VCALENDAR