BEGIN:VCALENDAR
VERSION:2.0
PRODID:-//Drupal iCal API//EN
X-WR-CALNAME:Events items teaser
X-WR-TIMEZONE:America/Toronto
BEGIN:VTIMEZONE
TZID:America/Toronto
X-LIC-LOCATION:America/Toronto
BEGIN:DAYLIGHT
TZNAME:EDT
TZOFFSETFROM:-0500
TZOFFSETTO:-0400
DTSTART:20220313T070000
END:DAYLIGHT
BEGIN:STANDARD
TZNAME:EST
TZOFFSETFROM:-0400
TZOFFSETTO:-0500
DTSTART:20211107T060000
END:STANDARD
END:VTIMEZONE
BEGIN:VEVENT
UID:69e5b540ced22
DTSTART;TZID=America/Detroit:20220707T140000
SEQUENCE:0
TRANSP:TRANSPARENT
DTEND;TZID=America/Detroit:20220707T160000
URL:https://uwaterloo.ca/institute-for-quantum-computing/events/pennylane-a
 nd-xanadu-quantum-codebook
LOCATION:QNC - Quantum Nano Centre 200 University Avenue West QNC 1201 Wate
 rloo ON N2L 3G1 Canada
SUMMARY:PennyLane and the Xanadu Quantum Codebook
CLASS:PUBLIC
DESCRIPTION:ISAAC DE VLUGT\, XANADU\n\nThrough this workshop\, we will pres
 ent Xanadu’s open-source software\ntool (PennyLane [https://pennylane.ai
 /]) and the interactive\neducational tool (Xanadu Quantum Codebook\n[https
 ://codebook.xanadu.ai/]) for quantum computing. We will discuss\nhow these
  powerful software tools can be incorporated into quantum\ncomputing resea
 rch and education by going through various hands-on\nexercises.
DTSTAMP:20260420T051024Z
END:VEVENT
END:VCALENDAR