BEGIN:VCALENDAR
VERSION:2.0
PRODID:-//Drupal iCal API//EN
X-WR-CALNAME:Events items teaser
X-WR-TIMEZONE:America/Toronto
BEGIN:VTIMEZONE
TZID:America/Toronto
X-LIC-LOCATION:America/Toronto
BEGIN:DAYLIGHT
TZNAME:EDT
TZOFFSETFROM:-0500
TZOFFSETTO:-0400
DTSTART:20220313T070000
END:DAYLIGHT
BEGIN:STANDARD
TZNAME:EST
TZOFFSETFROM:-0400
TZOFFSETTO:-0500
DTSTART:20211107T060000
END:STANDARD
END:VTIMEZONE
BEGIN:VEVENT
UID:69e5dc25e85a5
DTSTART;TZID=America/Toronto:20220721T100000
SEQUENCE:0
TRANSP:TRANSPARENT
DTEND;TZID=America/Toronto:20220721T100000
URL:https://uwaterloo.ca/institute-for-quantum-computing/events/sufficient-
 family-necessary-inequalities-quantum-marginals
LOCATION:ZOOM Canada
SUMMARY:A sufficient family of necessary inequalities for the quantum\nmarg
 inals problem
CLASS:PUBLIC
DESCRIPTION:TC FRASER - PERIMETER INSTITUTE - ZOOM EVENT\n\nThe quantum mar
 ginals problem (QMP) aims to understand how the various\nmarginals of a jo
 int quantum state are related to one another by\ndeciding whether or not a
  given collection of marginals is compatible\nwith some joint quantum stat
 e. Although existing techniques for the\nQMP are well developed for the sp
 ecial case of disjoint marginals\, the\nsame is not true for the generic c
 ase of overlapping marginals. The\nleading technique for the generic QMP\,
  published by Yu et. al. (2021)\,\nresorts to evaluating a hierarchy of se
 midefinite programs.
DTSTAMP:20260420T075621Z
END:VEVENT
END:VCALENDAR