BEGIN:VCALENDAR
VERSION:2.0
PRODID:-//Drupal iCal API//EN
X-WR-CALNAME:Events items teaser
X-WR-TIMEZONE:America/Toronto
BEGIN:VTIMEZONE
TZID:America/Toronto
X-LIC-LOCATION:America/Toronto
BEGIN:DAYLIGHT
TZNAME:EDT
TZOFFSETFROM:-0500
TZOFFSETTO:-0400
DTSTART:20220313T070000
END:DAYLIGHT
BEGIN:STANDARD
TZNAME:EST
TZOFFSETFROM:-0400
TZOFFSETTO:-0500
DTSTART:20211107T060000
END:STANDARD
END:VTIMEZONE
BEGIN:VEVENT
UID:69e5852680551
DTSTART;TZID=America/Toronto:20221027T100000
SEQUENCE:0
TRANSP:TRANSPARENT
DTEND;TZID=America/Toronto:20221027T110000
URL:https://uwaterloo.ca/institute-for-quantum-computing/events/molecular-s
 ingle-photon-sources-quantum-communication-and
LOCATION:QNC - Quantum Nano Centre 200 University Avenue West Room 1501 Wat
 erloo ON N2L 3G1 Canada
SUMMARY:Molecular single photon sources for quantum communication and enhan
 ced\nsensing
CLASS:PUBLIC
DESCRIPTION:IQC SEMINAR FEATURING MICHAEL WILKE\, MCGILL UNIVERSITY\n\nThe 
 pioneering experiments by Hanbury and Twiss are considered by many\nas the
  beginnings of experimental quantum optics. These experiments\nare now par
 ticularly relevant in the context of quantum photonics and\nthe characteri
 zation of single photon sources.\ncont.
DTSTAMP:20260420T014510Z
END:VEVENT
END:VCALENDAR