BEGIN:VCALENDAR
VERSION:2.0
PRODID:-//Drupal iCal API//EN
X-WR-CALNAME:Events items teaser
X-WR-TIMEZONE:America/Toronto
BEGIN:VTIMEZONE
TZID:America/Toronto
X-LIC-LOCATION:America/Toronto
BEGIN:DAYLIGHT
TZNAME:EDT
TZOFFSETFROM:-0500
TZOFFSETTO:-0400
DTSTART:20220313T070000
END:DAYLIGHT
BEGIN:STANDARD
TZNAME:EST
TZOFFSETFROM:-0400
TZOFFSETTO:-0500
DTSTART:20221106T060000
END:STANDARD
END:VTIMEZONE
BEGIN:VEVENT
UID:69eb187a72411
DTSTART;TZID=America/Toronto:20221108T120000
SEQUENCE:0
TRANSP:TRANSPARENT
DTEND;TZID=America/Toronto:20221108T130000
URL:https://uwaterloo.ca/institute-for-quantum-computing/events/quantum-tod
 ay-revealing-spin-structures-neutron-beams
SUMMARY:Quantum Today: Revealing spin structures with neutron beams
CLASS:PUBLIC
DESCRIPTION:Join us for Quantum Today\, where we sit down with researchers 
 from the\nUniversity of Waterloo’s Institute for Quantum Computing (IQC)
  to\ntalk about their work\, its impact and where their research may lead.
DTSTAMP:20260424T071506Z
END:VEVENT
END:VCALENDAR