BEGIN:VCALENDAR
VERSION:2.0
PRODID:-//Drupal iCal API//EN
X-WR-CALNAME:Events items teaser
X-WR-TIMEZONE:America/Toronto
BEGIN:VTIMEZONE
TZID:America/Toronto
X-LIC-LOCATION:America/Toronto
BEGIN:DAYLIGHT
TZNAME:EDT
TZOFFSETFROM:-0500
TZOFFSETTO:-0400
DTSTART:20220313T070000
END:DAYLIGHT
BEGIN:STANDARD
TZNAME:EST
TZOFFSETFROM:-0400
TZOFFSETTO:-0500
DTSTART:20221106T060000
END:STANDARD
END:VTIMEZONE
BEGIN:VEVENT
UID:69e509ab1b2f9
DTSTART;TZID=America/Toronto:20221214T143000
SEQUENCE:0
TRANSP:TRANSPARENT
DTEND;TZID=America/Toronto:20221214T153000
URL:https://uwaterloo.ca/institute-for-quantum-computing/events/complexity-
 and-clarity-kitaev-candidate-materials
LOCATION:C2 - Chemistry 2 200 University Avenue West Room 361 (Reading room
 ) Waterloo ON N2L 3G1 Canada
SUMMARY:Complexity and Clarity for Kitaev Candidate Materials
CLASS:PUBLIC
DESCRIPTION:CHEMISTRY SEMINAR SERIES – STEVE WINTER\, WAKE FOREST UNIVERS
 ITY\n\nHOST: A. WEI TSEN\n\nQuantum materials represent a broad class of s
 ystems whose\nexperimental response relies directly on entanglement betwee
 n their\nunderlying degrees of freedom. Modeling of such materials present
 s a\nvariety of challenges related to a disparate variety of complex\nbeha
 viours that manifest at different energy scales\, and a typical\nsensitivi
 ty of responses to model parameters. In this field\,\nfirst-principles app
 roaches often provide a vital bridge between\nexperiments and theoretical 
 models. In this talk\, I will introduce our\nnumerical strategies for syst
 ematically building low-energy models\nwith local charge\, spin\, and orbi
 tal degrees of freedom of arbitrary\ncomplexity. I will discuss the insigh
 ts that these methods have\nyielded for frustrated magnetic insulators col
 lectively known as\n\"Kitaev materials\"\, which have prompted a recent ex
 plosion of interest\nin quantum magnets where spin-orbit coupling induces 
 strongly\nanisotropic and competing magnetic interactions. I will specific
 ally\naddress our recent attempts to understand the magnetic models of\nfe
 w-layer RuCl3 and high-spin d7 Co(II) compounds\, which have recently\nbee
 n identified as possible alternative platforms for realising the\ncelebrat
 ed Kitaev model.
DTSTAMP:20260419T165819Z
END:VEVENT
END:VCALENDAR