BEGIN:VCALENDAR
VERSION:2.0
PRODID:-//Drupal iCal API//EN
X-WR-CALNAME:Events items teaser
X-WR-TIMEZONE:America/Toronto
BEGIN:VTIMEZONE
TZID:America/Toronto
X-LIC-LOCATION:America/Toronto
BEGIN:DAYLIGHT
TZNAME:EDT
TZOFFSETFROM:-0500
TZOFFSETTO:-0400
DTSTART:20220313T070000
END:DAYLIGHT
BEGIN:STANDARD
TZNAME:EST
TZOFFSETFROM:-0400
TZOFFSETTO:-0500
DTSTART:20221106T060000
END:STANDARD
END:VTIMEZONE
BEGIN:VEVENT
UID:69e5854691787
DTSTART;TZID=America/Toronto:20230119T150000
SEQUENCE:0
TRANSP:TRANSPARENT
DTEND;TZID=America/Toronto:20230119T160000
URL:https://uwaterloo.ca/institute-for-quantum-computing/events/simplicial-
 distributions-and-contextuality
LOCATION:QNC - Quantum Nano Centre 200 University Avenue West 1201 and ZOOM
  Waterloo ON N2L 3G1 Canada
SUMMARY:Simplicial distributions and contextuality
CLASS:PUBLIC
DESCRIPTION:MATH/CS SEMINAR FEATURING CIHAN OKAY BILKENT UNIVERSITY\n\nIn m
 odern homotopy theory\, spaces are represented by combinatorial\nmodels ca
 lled simplicial sets. Their elegant formulation gives them\ngreat expressi
 ve power to capture spaces up to homotopy. Simplicial\ndistributions are b
 asic mathematical objects that mix simplicial sets\nwith probabilities. ..
 .
DTSTAMP:20260420T014542Z
END:VEVENT
END:VCALENDAR