BEGIN:VCALENDAR
VERSION:2.0
PRODID:-//Drupal iCal API//EN
X-WR-CALNAME:Events items teaser
X-WR-TIMEZONE:America/Toronto
BEGIN:VTIMEZONE
TZID:America/Toronto
X-LIC-LOCATION:America/Toronto
BEGIN:DAYLIGHT
TZNAME:EDT
TZOFFSETFROM:-0500
TZOFFSETTO:-0400
DTSTART:20230312T070000
END:DAYLIGHT
BEGIN:STANDARD
TZNAME:EST
TZOFFSETFROM:-0400
TZOFFSETTO:-0500
DTSTART:20221106T060000
END:STANDARD
END:VTIMEZONE
BEGIN:VEVENT
UID:69e4dd3c28318
DTSTART;TZID=America/Toronto:20230321T103000
SEQUENCE:0
TRANSP:TRANSPARENT
DTEND;TZID=America/Toronto:20230321T113000
URL:https://uwaterloo.ca/institute-for-quantum-computing/events/iqc-colloqu
 im-hsin-yuan-robert-huang-california-institute
LOCATION:QNC - Quantum Nano Centre 200 University Avenue West Zoom Waterloo
  ON N2L 3G1 Canada
SUMMARY:IQC Colloquim - Hsin-Yuan (Robert) Huang - California Institute of\
 nTechnology
CLASS:PUBLIC
DESCRIPTION:LEARNING IN THE QUANTUM UNIVERSE\n\nABSTRACT: I will present re
 cent progress in building a rigorous theory\nto understand how scientists\
 , machines\, and future quantum computers\ncould learn models of our quant
 um universe. The talk will begin with\nan experimentally feasible procedur
 e for converting a quantum\nmany-body system into a succinct classical des
 cription of the system\,\nits classical shadow. Classical shadows can be a
 pplied to efficiently\npredict many properties of interest\, including exp
 ectation values of\nlocal observables and few-body correlation functions.\
 n\nI will then build on the classical shadow formalism to answer two\nfund
 amental questions at the intersection of machine learning and\nquantum phy
 sics: Can classical machines learn to solve challenging\nproblems in quant
 um physics? And can quantum machines learn\nexponentially faster than clas
 sical machines?\n\nBIO: Hsin-Yuan (Robert) Huang is a Ph.D. student at Cal
 tech\, advised\nby John Preskill and Thomas Vidick. His research focuses o
 n\nunderstanding how the theory of learning can provide new insights into\
 nphysics\, information\, and quantum computing. His notable works include\
 nclassical shadow tomography for learning large-scale quantum systems\,\np
 rovably efficient machine learning algorithms for solving quantum\nmany-bo
 dy problems\, and quantum advantages in learning from\nexperiments.\n\nHe 
 has been awarded a Google Ph.D. fellowship\, the Quantum Creator\nPrize\, 
 MediaTek research young scholarship\, and the Kortschak\nscholarship.\n\n-
 ------------------------\n\nFollow the link to attend this seminar on Zoom
 \n[https://uwaterloo.zoom.us/j/94762886875].\n\nPLEASE NOTE: for the passc
 ode\, please email Joe Petrik\n[/joe.petrik@uwaterloo.ca] no later than 10
  a.m. day of.
DTSTAMP:20260419T134844Z
END:VEVENT
END:VCALENDAR