BEGIN:VCALENDAR
VERSION:2.0
PRODID:-//Drupal iCal API//EN
X-WR-CALNAME:Events items teaser
X-WR-TIMEZONE:America/Toronto
BEGIN:VTIMEZONE
TZID:America/Toronto
X-LIC-LOCATION:America/Toronto
BEGIN:DAYLIGHT
TZNAME:EDT
TZOFFSETFROM:-0500
TZOFFSETTO:-0400
DTSTART:20230312T070000
END:DAYLIGHT
BEGIN:STANDARD
TZNAME:EST
TZOFFSETFROM:-0400
TZOFFSETTO:-0500
DTSTART:20221106T060000
END:STANDARD
END:VTIMEZONE
BEGIN:VEVENT
UID:69e58549141f9
DTSTART;TZID=America/Toronto:20230406T150000
SEQUENCE:0
TRANSP:TRANSPARENT
DTEND;TZID=America/Toronto:20230406T160000
URL:https://uwaterloo.ca/institute-for-quantum-computing/events/collusion-r
 esistant-copy-protection-watermarkable
LOCATION:QNC - Quantum Nano Centre 200 University Avenue West QNC 1201 + ZO
 OM Waterloo ON N2L 3G1 Canada
SUMMARY:Collusion Resistant Copy-Protection for Watermarkable Functionaliti
 es
CLASS:PUBLIC
DESCRIPTION:CS/MATH SEMINAR - JIAHUI LIU (UT AUSTIN)\n\nCopy-protection is 
 the task of encoding a program into a quantum state\nto prevent illegal du
 plications. A line of recent works studied\ncopy-protection schemes under 
 ``1 -&gt; 2 attacks'': the adversary\nreceiving one program copy can not prod
 uce two valid copies. However\,\nunder most circumstances\, vendors need t
 o sell more than one copy of a\nprogram and still ensure that no duplicate
 s can be generated. In this\nwork\, we initiate the study of collusion res
 istant copy-protection in\nthe plain model. Our results are twofold:
DTSTAMP:20260420T014545Z
END:VEVENT
END:VCALENDAR