BEGIN:VCALENDAR
VERSION:2.0
PRODID:-//Drupal iCal API//EN
X-WR-CALNAME:Events items teaser
X-WR-TIMEZONE:America/Toronto
BEGIN:VTIMEZONE
TZID:America/Toronto
X-LIC-LOCATION:America/Toronto
BEGIN:DAYLIGHT
TZNAME:EDT
TZOFFSETFROM:-0500
TZOFFSETTO:-0400
DTSTART:20230312T070000
END:DAYLIGHT
BEGIN:STANDARD
TZNAME:EST
TZOFFSETFROM:-0400
TZOFFSETTO:-0500
DTSTART:20221106T060000
END:STANDARD
END:VTIMEZONE
BEGIN:VEVENT
UID:69e585481bf5a
DTSTART;TZID=America/Toronto:20230420T150000
SEQUENCE:0
TRANSP:TRANSPARENT
DTEND;TZID=America/Toronto:20230420T160000
URL:https://uwaterloo.ca/institute-for-quantum-computing/events/quantum-alg
 orithms-thermal-equilibrium-using-fluctuation
LOCATION:QNC - Quantum Nano Centre 200 University Avenue West QNC 4104 + ZO
 OM Waterloo ON N2L 3G1 Canada
SUMMARY:Quantum algorithms for thermal equilibrium using fluctuation theore
 ms
CLASS:PUBLIC
DESCRIPTION:IQC-QUICS MATH CS SEMINAR - ROLANDO SOMMA\, LOS ALAMOS NATIONAL
 \nLABORATORY\n\nFluctuation theorems provide powerful computational tools 
 to study\nthermal equilibrium. Building upon these theorems\, I will prese
 nt a\nquantum algorithm to prepare the thermal state of a quantum system H
 1\,\nat inverse temperature β≥0\, from the thermal state of a quantum\n
 system H0.
DTSTAMP:20260420T014544Z
END:VEVENT
END:VCALENDAR