BEGIN:VCALENDAR
VERSION:2.0
PRODID:-//Drupal iCal API//EN
X-WR-CALNAME:Events items teaser
X-WR-TIMEZONE:America/Toronto
BEGIN:VTIMEZONE
TZID:America/Toronto
X-LIC-LOCATION:America/Toronto
BEGIN:DAYLIGHT
TZNAME:EDT
TZOFFSETFROM:-0500
TZOFFSETTO:-0400
DTSTART:20230312T070000
END:DAYLIGHT
BEGIN:STANDARD
TZNAME:EST
TZOFFSETFROM:-0400
TZOFFSETTO:-0500
DTSTART:20221106T060000
END:STANDARD
END:VTIMEZONE
BEGIN:VEVENT
UID:69e5153b10868
DTSTART;TZID=America/Toronto:20230417T143000
SEQUENCE:0
TRANSP:TRANSPARENT
DTEND;TZID=America/Toronto:20230417T153000
URL:https://uwaterloo.ca/institute-for-quantum-computing/events/towards-pra
 ctical-long-distance-quantum-communication
LOCATION:QNC - Quantum Nano Centre 200 University Avenue West QNC 1501 Wate
 rloo ON N2L 3G1 Canada
SUMMARY:Towards practical long-distance quantum communication
CLASS:PUBLIC
DESCRIPTION:IQC SPECIAL SEMINAR\, XIAOQING ZHONG\, SENIOR CONSULTANT ERNST 
 &amp; YOUNG\n\nQuantum communication has revolutionized the way we approach\ni
 nformation processing and transmission. Building on the principles of\nqua
 ntum mechanics\, quantum communication technologies offer\ncapabilities th
 at are impossible with classical communication.
DTSTAMP:20260419T174739Z
END:VEVENT
END:VCALENDAR