BEGIN:VCALENDAR
VERSION:2.0
PRODID:-//Drupal iCal API//EN
X-WR-CALNAME:Events items teaser
X-WR-TIMEZONE:America/Toronto
BEGIN:VTIMEZONE
TZID:America/Toronto
X-LIC-LOCATION:America/Toronto
BEGIN:DAYLIGHT
TZNAME:EDT
TZOFFSETFROM:-0500
TZOFFSETTO:-0400
DTSTART:20230312T070000
END:DAYLIGHT
BEGIN:STANDARD
TZNAME:EST
TZOFFSETFROM:-0400
TZOFFSETTO:-0500
DTSTART:20221106T060000
END:STANDARD
END:VTIMEZONE
BEGIN:VEVENT
UID:69e4dda31363b
DTSTART;TZID=America/Toronto:20230427T150000
SEQUENCE:0
TRANSP:TRANSPARENT
DTEND;TZID=America/Toronto:20230427T160000
URL:https://uwaterloo.ca/institute-for-quantum-computing/events/any-physica
 l-theory-nature-must-be-boundlessly-multipartite
LOCATION:QNC - Quantum Nano Centre 200 University Avenue West QNC 1201 + ZO
 OM Waterloo ON N2L 3G1 Canada
SUMMARY:Any Physical Theory of Nature Must Be Boundlessly Multipartite\nNon
 local
CLASS:PUBLIC
DESCRIPTION:IQC CS/MATH SEMINAR - MARC-OLIVIER RENOU (INRIA\, PARIS-SACLAY)
 \n\nQuantum correlations are obtained when multiple parties perform\nindep
 endent measurements on a shared quantum state.  Bell’s seminal\ntheorem
  proves that certain correlations predicted by quantum theory\nresist expl
 anations in terms of any Local Hidden Variable theory based\non shared ran
 domness. But what about alternative explanations for\nquantum correlations
 \, in terms of a hypothetical causal theory\ninvolving exotic bipartite re
 sources generalising quantum bipartite\nentanglement in addition to shared
  randomness? 
DTSTAMP:20260419T135027Z
END:VEVENT
END:VCALENDAR