BEGIN:VCALENDAR
VERSION:2.0
PRODID:-//Drupal iCal API//EN
X-WR-CALNAME:Events items teaser
X-WR-TIMEZONE:America/Toronto
BEGIN:VTIMEZONE
TZID:America/Toronto
X-LIC-LOCATION:America/Toronto
BEGIN:DAYLIGHT
TZNAME:EDT
TZOFFSETFROM:-0500
TZOFFSETTO:-0400
DTSTART:20230312T070000
END:DAYLIGHT
BEGIN:STANDARD
TZNAME:EST
TZOFFSETFROM:-0400
TZOFFSETTO:-0500
DTSTART:20221106T060000
END:STANDARD
END:VTIMEZONE
BEGIN:VEVENT
UID:69e56f34e2cad
DTSTART;TZID=America/Toronto:20230518T100000
SEQUENCE:0
TRANSP:TRANSPARENT
DTEND;TZID=America/Toronto:20230518T110000
URL:https://uwaterloo.ca/institute-for-quantum-computing/events/positive-st
 ate-polynomials
LOCATION:QNC - Quantum Nano Centre 200 University Avenue West QNC 4104 and 
 zoom Waterloo ON N2L 3G1 Canada
SUMMARY:Positive state polynomials
CLASS:PUBLIC
DESCRIPTION:CS/MATH SEMINAR - IGOR KLEP\, UNIVERSITY OF LJUBLJANA\n\nThe ta
 lk will discuss state polynomials\, i.e.\, polynomials in\nnoncommuting va
 riables and formal states of their products. The\nmotivation behind this t
 heory arises from the study of correlations in\nquantum networks. We will 
 give a state analog of Artin's solution to\nHilbert's 17th problem showing
  that state polynomials\, positive over\nall matrices and matricial states
 \, are sums of squares with\ndenominators.
DTSTAMP:20260420T001132Z
END:VEVENT
END:VCALENDAR