BEGIN:VCALENDAR
VERSION:2.0
PRODID:-//Drupal iCal API//EN
X-WR-CALNAME:Events items teaser
X-WR-TIMEZONE:America/Toronto
BEGIN:VTIMEZONE
TZID:America/Toronto
X-LIC-LOCATION:America/Toronto
BEGIN:DAYLIGHT
TZNAME:EDT
TZOFFSETFROM:-0500
TZOFFSETTO:-0400
DTSTART:20230312T070000
END:DAYLIGHT
BEGIN:STANDARD
TZNAME:EST
TZOFFSETFROM:-0400
TZOFFSETTO:-0500
DTSTART:20221106T060000
END:STANDARD
END:VTIMEZONE
BEGIN:VEVENT
UID:69ed7e78c4e7b
DTSTART;TZID=America/Toronto:20230626T100000
SEQUENCE:0
TRANSP:TRANSPARENT
DTEND;TZID=America/Toronto:20230626T110000
URL:https://uwaterloo.ca/institute-for-quantum-computing/events/jack-davis-
 phd-thesis-defence
LOCATION:PHY 308 200 University Avenue West Waterloo ON N2L 3G1 Canada
SUMMARY:Jack Davis PhD Thesis Defence
CLASS:PUBLIC
DESCRIPTION:WIGNER NEGATIVITY ON THE SPHERE\n\nThe rise of quantum informat
 ion theory has largely vindicated the\nlong-held belief that Wigner negati
 vity is an indicator of genuine\nnonclassicality in quantum systems.  Thi
 s thesis explores its\nmanifestation in spin-j systems using the spherical
  Wigner function. \nCommon symmetric multi-qubit states are studied and c
 ompared.  Spin\ncoherent states are shown to never have vanishing Wigner 
 negativity. \nPure states that maximize negativity are determined and ana
 lyzed using\nthe Majorana stellar representation.  The relationship betwe
 en\nnegativity and state mixedness is discussed\, and polytopes\ncharacter
 izing unitary orbits of lower-bounded Wigner functions are\nstudied.  Res
 ults throughout are contrasted with similar works on\nsymmetric state enta
 nglement and other forms of phase-space\nnonclassicality.
DTSTAMP:20260426T025448Z
END:VEVENT
END:VCALENDAR