BEGIN:VCALENDAR
VERSION:2.0
PRODID:-//Drupal iCal API//EN
X-WR-CALNAME:Events items teaser
X-WR-TIMEZONE:America/Toronto
BEGIN:VTIMEZONE
TZID:America/Toronto
X-LIC-LOCATION:America/Toronto
BEGIN:DAYLIGHT
TZNAME:EDT
TZOFFSETFROM:-0500
TZOFFSETTO:-0400
DTSTART:20230312T070000
END:DAYLIGHT
BEGIN:STANDARD
TZNAME:EST
TZOFFSETFROM:-0400
TZOFFSETTO:-0500
DTSTART:20221106T060000
END:STANDARD
END:VTIMEZONE
BEGIN:VEVENT
UID:69e4ddc8bf4a8
DTSTART;TZID=America/Toronto:20230615T153000
SEQUENCE:0
TRANSP:TRANSPARENT
DTEND;TZID=America/Toronto:20230615T163000
URL:https://uwaterloo.ca/institute-for-quantum-computing/events/impure-quan
 tum-codes-applications-and-bounds
LOCATION:QNC - Quantum Nano Centre 200 University Avenue West QNC 1201 + ZO
 OM Waterloo ON N2L 3G1 Canada
SUMMARY:Impure Quantum Codes: Applications and Bounds
CLASS:PUBLIC
DESCRIPTION:CS/MATH SEMINAR - ANDREW NEMEC\, DUKE UNIVERSITY\n\nImpure quan
 tum error-correcting codes display interesting properties\nnot found among
  classical codes\, such as having multiple low-weight\nerrors map to the s
 ame syndrome. In this talk\, we will look at how\nthese codes can be used 
 to design good variants of quantum codes\, such\nas quantum-classical hybr
 id codes and quantum data-syndrome codes.
DTSTAMP:20260419T135104Z
END:VEVENT
END:VCALENDAR